BEGIN:VCALENDAR
VERSION:2.0
PRODID:-//Tukios.com/
BEGIN:VEVENT
UID:9b52f62d-4343-43df-b999-d8d955fac609@www.brannenfamily.com
DTSTAMP:20260421T015602Z
DTSTART:20260422T133000Z
DTEND:20260422T150000Z
SUMMARY:Visitation
DESCRIPTION:
URL:https://www.brannenfamily.com/obituaries/james-dasher
LOCATION: 206 N Veterans Blvd  Glennville GA 30427
GEO:31.9384535;-81.9288219
END:VEVENT
END:VCALENDAR