BEGIN:VCALENDAR
VERSION:2.0
PRODID:-//Tukios.com/
BEGIN:VEVENT
UID:2dce6125-f012-49c3-971c-956cd8c64279@www.brannenfamily.com
DTSTAMP:20260421T020309Z
DTSTART:20260422T150000Z
DTEND:20260422T160000Z
SUMMARY:Funeral Service
DESCRIPTION:
URL:https://www.brannenfamily.com/obituaries/james-dasher
LOCATION: 206 N Veterans Blvd  Glennville GA 30427
GEO:31.9384535;-81.9288219
END:VEVENT
END:VCALENDAR