BEGIN:VCALENDAR
VERSION:2.0
PRODID:-//Tukios.com/
BEGIN:VEVENT
UID:fccad783-7612-4317-871d-d42a3e7163e7@www.brannenfamily.com
DTSTAMP:20260421T015216Z
DTSTART:20260422
SUMMARY:Burial
DESCRIPTION:
URL:https://www.brannenfamily.com/obituaries/james-dasher
LOCATION: 5694 GA-144  Glennville GA 30427
GEO:31.9327378;-81.9687071
END:VEVENT
END:VCALENDAR